BEGIN:VCALENDAR
VERSION:2.0
PRODID:-//Lunel T.T. - ECPv6.15.20//NONSGML v1.0//EN
CALSCALE:GREGORIAN
METHOD:PUBLISH
X-WR-CALNAME:Lunel T.T.
X-ORIGINAL-URL:https://luneltt.fr
X-WR-CALDESC:Évènements pour Lunel T.T.
REFRESH-INTERVAL;VALUE=DURATION:PT1H
X-Robots-Tag:noindex
X-PUBLISHED-TTL:PT1H
BEGIN:VTIMEZONE
TZID:Europe/Paris
BEGIN:DAYLIGHT
TZOFFSETFROM:+0100
TZOFFSETTO:+0200
TZNAME:CEST
DTSTART:20240331T010000
END:DAYLIGHT
BEGIN:STANDARD
TZOFFSETFROM:+0200
TZOFFSETTO:+0100
TZNAME:CET
DTSTART:20241027T010000
END:STANDARD
BEGIN:DAYLIGHT
TZOFFSETFROM:+0100
TZOFFSETTO:+0200
TZNAME:CEST
DTSTART:20250330T010000
END:DAYLIGHT
BEGIN:STANDARD
TZOFFSETFROM:+0200
TZOFFSETTO:+0100
TZNAME:CET
DTSTART:20251026T010000
END:STANDARD
BEGIN:DAYLIGHT
TZOFFSETFROM:+0100
TZOFFSETTO:+0200
TZNAME:CEST
DTSTART:20260329T010000
END:DAYLIGHT
BEGIN:STANDARD
TZOFFSETFROM:+0200
TZOFFSETTO:+0100
TZNAME:CET
DTSTART:20261025T010000
END:STANDARD
END:VTIMEZONE
BEGIN:VEVENT
DTSTART;VALUE=DATE:20250901
DTEND;VALUE=DATE:20250902
DTSTAMP:20260420T112509
CREATED:20250913T193538Z
LAST-MODIFIED:20250913T193538Z
UID:5487-1756684800-1756771199@luneltt.fr
SUMMARY:Reprise des entraînements dirigés et libres
DESCRIPTION:
URL:https://luneltt.fr/evenement/reprise-entrainements-2025/
LOCATION:Salle Marcou\, 268 Av. Gambetta\, Lunel\, 34400\, France
END:VEVENT
BEGIN:VEVENT
DTSTART;TZID=Europe/Paris:20250907T090000
DTEND;TZID=Europe/Paris:20250907T140000
DTSTAMP:20260420T112509
CREATED:20250606T224524Z
LAST-MODIFIED:20250606T225632Z
UID:5056-1757235600-1757253600@luneltt.fr
SUMMARY:Fête des Associations de Lunel 2025
DESCRIPTION:Cette édition se déroulera dans les arènes Francis San Juan\, de 9h à 14h.
URL:https://luneltt.fr/evenement/fete-associations-lunel-2025/
LOCATION:Arènes Francis San Juan\, Esplanade Roger Damour\, Lunel\, 34400\, France
END:VEVENT
BEGIN:VEVENT
DTSTART;VALUE=DATE:20250921
DTEND;VALUE=DATE:20250922
DTSTAMP:20260420T112509
CREATED:20250710T220235Z
LAST-MODIFIED:20250710T220235Z
UID:5237-1758412800-1758499199@luneltt.fr
SUMMARY:Championnat par équipes 2025-2026 – J1 – Phase 1
DESCRIPTION:
URL:https://luneltt.fr/evenement/championnat-par-equipes-2025-2026-j1-phase-1/
END:VEVENT
BEGIN:VEVENT
DTSTART;VALUE=DATE:20250928
DTEND;VALUE=DATE:20250929
DTSTAMP:20260420T112509
CREATED:20250710T220321Z
LAST-MODIFIED:20250710T220321Z
UID:5239-1759017600-1759103999@luneltt.fr
SUMMARY:Championnat par équipes 2025-2026 – J2 – Phase 1
DESCRIPTION:
URL:https://luneltt.fr/evenement/championnat-par-equipes-2025-2026-j2-phase-1/
END:VEVENT
END:VCALENDAR