BEGIN:VCALENDAR
VERSION:2.0
PRODID:-//Lunel T.T. - ECPv6.15.20//NONSGML v1.0//EN
CALSCALE:GREGORIAN
METHOD:PUBLISH
X-WR-CALNAME:Lunel T.T.
X-ORIGINAL-URL:https://luneltt.fr
X-WR-CALDESC:Évènements pour Lunel T.T.
REFRESH-INTERVAL;VALUE=DURATION:PT1H
X-Robots-Tag:noindex
X-PUBLISHED-TTL:PT1H
BEGIN:VTIMEZONE
TZID:Europe/Paris
BEGIN:DAYLIGHT
TZOFFSETFROM:+0100
TZOFFSETTO:+0200
TZNAME:CEST
DTSTART:20240331T010000
END:DAYLIGHT
BEGIN:STANDARD
TZOFFSETFROM:+0200
TZOFFSETTO:+0100
TZNAME:CET
DTSTART:20241027T010000
END:STANDARD
BEGIN:DAYLIGHT
TZOFFSETFROM:+0100
TZOFFSETTO:+0200
TZNAME:CEST
DTSTART:20250330T010000
END:DAYLIGHT
BEGIN:STANDARD
TZOFFSETFROM:+0200
TZOFFSETTO:+0100
TZNAME:CET
DTSTART:20251026T010000
END:STANDARD
BEGIN:DAYLIGHT
TZOFFSETFROM:+0100
TZOFFSETTO:+0200
TZNAME:CEST
DTSTART:20260329T010000
END:DAYLIGHT
BEGIN:STANDARD
TZOFFSETFROM:+0200
TZOFFSETTO:+0100
TZNAME:CET
DTSTART:20261025T010000
END:STANDARD
END:VTIMEZONE
BEGIN:VEVENT
DTSTART;VALUE=DATE:20250705
DTEND;VALUE=DATE:20250818
DTSTAMP:20260420T124351
CREATED:20250606T224940Z
LAST-MODIFIED:20250606T224940Z
UID:5055-1751673600-1755475199@luneltt.fr
SUMMARY:Fermeture estivale 2025
DESCRIPTION:Toutes les installations sportives seront fermées aux entraînements du samedi 5 juillet au dimanche 17 août 2025 inclus.
URL:https://luneltt.fr/evenement/fermeture-estivale-2025/
END:VEVENT
BEGIN:VEVENT
DTSTART;TZID=Europe/Paris:20250818T093000
DTEND;TZID=Europe/Paris:20250822T170000
DTSTAMP:20260420T124351
CREATED:20250507T213614Z
LAST-MODIFIED:20251220T151116Z
UID:4850-1755509400-1755882000@luneltt.fr
SUMMARY:Stage ouvert - Août 2025
DESCRIPTION:Le club organise un stage ouvert à toutes et tous pendant les vacances d’août. \n\nDébut : 9h30\nFin : 17h00\n\n⁠Encadrement effectué par Stéphane (BE1 et BAFA) et Eliza (30ème cadettes française).
URL:https://luneltt.fr/evenement/stage-aout-2025/
LOCATION:Gymnase Grande Halle Brunel\, Rue des Olympiades\, Lunel\, 34400\, France
END:VEVENT
BEGIN:VEVENT
DTSTART;TZID=Europe/Paris:20250819T170000
DTEND;TZID=Europe/Paris:20250819T210000
DTSTAMP:20260420T124351
CREATED:20250721T184352Z
LAST-MODIFIED:20250721T184411Z
UID:5339-1755622800-1755637200@luneltt.fr
SUMMARY:Entraînement libre - Août 2025
DESCRIPTION:Entraînement libre possible de 17h à 21h !
URL:https://luneltt.fr/evenement/entrainement-libre-estival-19-aout-2025/
LOCATION:Gymnase Grande Halle Brunel\, Rue des Olympiades\, Lunel\, 34400\, France
END:VEVENT
BEGIN:VEVENT
DTSTART;TZID=Europe/Paris:20250822T170000
DTEND;TZID=Europe/Paris:20250822T210000
DTSTAMP:20260420T124351
CREATED:20250721T184453Z
LAST-MODIFIED:20250721T184511Z
UID:5342-1755882000-1755896400@luneltt.fr
SUMMARY:Entraînement libre - Août 2025
DESCRIPTION:Entraînement libre possible de 17h à 21h !
URL:https://luneltt.fr/evenement/entrainement-libre-estival-22-aout-2025/
LOCATION:Gymnase Grande Halle Brunel\, Rue des Olympiades\, Lunel\, 34400\, France
END:VEVENT
BEGIN:VEVENT
DTSTART;TZID=Europe/Paris:20250825T093000
DTEND;TZID=Europe/Paris:20250829T170000
DTSTAMP:20260420T124351
CREATED:20250507T214958Z
LAST-MODIFIED:20251220T151105Z
UID:4856-1756114200-1756486800@luneltt.fr
SUMMARY:Stage jeunes - Août 2025
DESCRIPTION:Le club organise un stage pour les jeunes pendant les vacances d’août. \n\nDébut : 9h30\nFin : 17h00\n\n⁠Encadrement effectué par Stéphane (BE1 et BAFA) et Eliza (30ème cadettes française).
URL:https://luneltt.fr/evenement/stage-jeunes-aout-2025/
LOCATION:Gymnase Grande Halle Brunel\, Rue des Olympiades\, Lunel\, 34400\, France
END:VEVENT
BEGIN:VEVENT
DTSTART;TZID=Europe/Paris:20250829T170000
DTEND;TZID=Europe/Paris:20250829T210000
DTSTAMP:20260420T124351
CREATED:20250721T184555Z
LAST-MODIFIED:20250721T184555Z
UID:5344-1756486800-1756501200@luneltt.fr
SUMMARY:Entraînement libre - Août 2025
DESCRIPTION:Entraînement libre possible de 17h à 21h !
URL:https://luneltt.fr/evenement/entrainement-libre-estival-29-aout-2025/
LOCATION:Gymnase Grande Halle Brunel\, Rue des Olympiades\, Lunel\, 34400\, France
END:VEVENT
END:VCALENDAR