BEGIN:VCALENDAR
VERSION:2.0
PRODID:-//Lunel T.T. - ECPv6.15.20//NONSGML v1.0//EN
CALSCALE:GREGORIAN
METHOD:PUBLISH
X-WR-CALNAME:Lunel T.T.
X-ORIGINAL-URL:https://luneltt.fr
X-WR-CALDESC:Évènements pour Lunel T.T.
REFRESH-INTERVAL;VALUE=DURATION:PT1H
X-Robots-Tag:noindex
X-PUBLISHED-TTL:PT1H
BEGIN:VTIMEZONE
TZID:Europe/Paris
BEGIN:DAYLIGHT
TZOFFSETFROM:+0100
TZOFFSETTO:+0200
TZNAME:CEST
DTSTART:20240331T010000
END:DAYLIGHT
BEGIN:STANDARD
TZOFFSETFROM:+0200
TZOFFSETTO:+0100
TZNAME:CET
DTSTART:20241027T010000
END:STANDARD
BEGIN:DAYLIGHT
TZOFFSETFROM:+0100
TZOFFSETTO:+0200
TZNAME:CEST
DTSTART:20250330T010000
END:DAYLIGHT
BEGIN:STANDARD
TZOFFSETFROM:+0200
TZOFFSETTO:+0100
TZNAME:CET
DTSTART:20251026T010000
END:STANDARD
BEGIN:DAYLIGHT
TZOFFSETFROM:+0100
TZOFFSETTO:+0200
TZNAME:CEST
DTSTART:20260329T010000
END:DAYLIGHT
BEGIN:STANDARD
TZOFFSETFROM:+0200
TZOFFSETTO:+0100
TZNAME:CET
DTSTART:20261025T010000
END:STANDARD
END:VTIMEZONE
BEGIN:VEVENT
DTSTART;VALUE=DATE:20250308
DTEND;VALUE=DATE:20250309
DTSTAMP:20260420T200038
CREATED:20241216T204237Z
LAST-MODIFIED:20241216T204742Z
UID:4354-1741392000-1741478399@luneltt.fr
SUMMARY:Championnat jeunes – J5
DESCRIPTION:
URL:https://luneltt.fr/evenement/championnat-jeunes-j5-2024-2025/
END:VEVENT
BEGIN:VEVENT
DTSTART;VALUE=DATE:20250309
DTEND;VALUE=DATE:20250310
DTSTAMP:20260420T200038
CREATED:20241216T203545Z
LAST-MODIFIED:20241216T203712Z
UID:4340-1741478400-1741564799@luneltt.fr
SUMMARY:Championnat par équipes 2024-2025 – J10 – Phase 2
DESCRIPTION:
URL:https://luneltt.fr/evenement/championnat-par-equipes-2024-2025-j10-phase-2/
END:VEVENT
BEGIN:VEVENT
DTSTART;VALUE=DATE:20250315
DTEND;VALUE=DATE:20250317
DTSTAMP:20260420T200038
CREATED:20241216T205357Z
LAST-MODIFIED:20241216T205420Z
UID:4362-1741996800-1742169599@luneltt.fr
SUMMARY:Critérium fédéral – Tour 4
DESCRIPTION:
URL:https://luneltt.fr/evenement/criterium-federal-tour-4-2024-2025/
END:VEVENT
BEGIN:VEVENT
DTSTART;VALUE=DATE:20250322
DTEND;VALUE=DATE:20250323
DTSTAMP:20260420T200038
CREATED:20250308T001937Z
LAST-MODIFIED:20250308T134826Z
UID:4627-1742601600-1742687999@luneltt.fr
SUMMARY:Organisation du Top régional Poussins/Benjamins 2025
DESCRIPTION:Toutes les informations : https://luneltt.fr/top-regional-poussins-benjamins-2025
URL:https://luneltt.fr/evenement/top-regional-poussins-benjamins-2025/
LOCATION:Gymnase Grande Halle Brunel\, Rue des Olympiades\, Lunel\, 34400\, France
END:VEVENT
BEGIN:VEVENT
DTSTART;VALUE=DATE:20250330
DTEND;VALUE=DATE:20250331
DTSTAMP:20260420T200038
CREATED:20241216T203606Z
LAST-MODIFIED:20241216T203722Z
UID:4342-1743292800-1743379199@luneltt.fr
SUMMARY:Championnat par équipes 2024-2025 – J11 – Phase 2
DESCRIPTION:
URL:https://luneltt.fr/evenement/championnat-par-equipes-2024-2025-j11-phase-2/
END:VEVENT
END:VCALENDAR