BEGIN:VCALENDAR
VERSION:2.0
PRODID:-//Lunel T.T. - ECPv6.15.20//NONSGML v1.0//EN
CALSCALE:GREGORIAN
METHOD:PUBLISH
X-ORIGINAL-URL:https://luneltt.fr
X-WR-CALDESC:Évènements pour Lunel T.T.
REFRESH-INTERVAL;VALUE=DURATION:PT1H
X-Robots-Tag:noindex
X-PUBLISHED-TTL:PT1H
BEGIN:VTIMEZONE
TZID:Europe/Paris
BEGIN:DAYLIGHT
TZOFFSETFROM:+0100
TZOFFSETTO:+0200
TZNAME:CEST
DTSTART:20230326T010000
END:DAYLIGHT
BEGIN:STANDARD
TZOFFSETFROM:+0200
TZOFFSETTO:+0100
TZNAME:CET
DTSTART:20231029T010000
END:STANDARD
BEGIN:DAYLIGHT
TZOFFSETFROM:+0100
TZOFFSETTO:+0200
TZNAME:CEST
DTSTART:20240331T010000
END:DAYLIGHT
BEGIN:STANDARD
TZOFFSETFROM:+0200
TZOFFSETTO:+0100
TZNAME:CET
DTSTART:20241027T010000
END:STANDARD
BEGIN:DAYLIGHT
TZOFFSETFROM:+0100
TZOFFSETTO:+0200
TZNAME:CEST
DTSTART:20250330T010000
END:DAYLIGHT
BEGIN:STANDARD
TZOFFSETFROM:+0200
TZOFFSETTO:+0100
TZNAME:CET
DTSTART:20251026T010000
END:STANDARD
BEGIN:DAYLIGHT
TZOFFSETFROM:+0100
TZOFFSETTO:+0200
TZNAME:CEST
DTSTART:20260329T010000
END:DAYLIGHT
BEGIN:STANDARD
TZOFFSETFROM:+0200
TZOFFSETTO:+0100
TZNAME:CET
DTSTART:20261025T010000
END:STANDARD
END:VTIMEZONE
BEGIN:VEVENT
DTSTART;VALUE=DATE:20241223
DTEND;VALUE=DATE:20250103
DTSTAMP:20260420T231156
CREATED:20241226T125306Z
LAST-MODIFIED:20241226T125306Z
UID:4432-1734912000-1735862399@luneltt.fr
SUMMARY:Fermeture hivernale 2024
DESCRIPTION:Les installations sportives seront fermées du lundi 23 décembre 2024 au jeudi 2 janvier 2025 inclus. \nLes entraînements dirigés reprendront le lundi 6 janvier 2025.
URL:https://luneltt.fr/evenement/fermeture-hivernale-2024/
END:VEVENT
BEGIN:VEVENT
DTSTART;VALUE=DATE:20250112
DTEND;VALUE=DATE:20250113
DTSTAMP:20260420T231156
CREATED:20250120T224121Z
LAST-MODIFIED:20250120T233316Z
UID:4468-1736640000-1736726399@luneltt.fr
SUMMARY:Pongistic Event Détection 2025
DESCRIPTION:Le Pongistic Event Détection est un évènement destiné aux jeunes des catégories poussin(e)s et benjamin(e)s primo-licenciés qui a lieu au Crès le 12 janvier 2025.
URL:https://luneltt.fr/evenement/pongistic-event-detection-2025/
END:VEVENT
BEGIN:VEVENT
DTSTART;VALUE=DATE:20250118
DTEND;VALUE=DATE:20250119
DTSTAMP:20260420T231156
CREATED:20241216T204201Z
LAST-MODIFIED:20241216T204452Z
UID:4350-1737158400-1737244799@luneltt.fr
SUMMARY:Championnat jeunes – J3
DESCRIPTION:
URL:https://luneltt.fr/evenement/championnat-jeunes-j3-2024-2025/
END:VEVENT
BEGIN:VEVENT
DTSTART;VALUE=DATE:20250119
DTEND;VALUE=DATE:20250120
DTSTAMP:20260420T231156
CREATED:20241216T203223Z
LAST-MODIFIED:20241216T203636Z
UID:4336-1737244800-1737331199@luneltt.fr
SUMMARY:Championnat par équipes 2024-2025 – J8 – Phase 2
DESCRIPTION:
URL:https://luneltt.fr/evenement/championnat-par-equipes-2024-2025-j8-phase-2/
END:VEVENT
BEGIN:VEVENT
DTSTART;VALUE=DATE:20250125
DTEND;VALUE=DATE:20250127
DTSTAMP:20260420T231156
CREATED:20241216T205240Z
LAST-MODIFIED:20241216T205306Z
UID:4360-1737763200-1737935999@luneltt.fr
SUMMARY:Critérium fédéral – Tour 3
DESCRIPTION:
URL:https://luneltt.fr/evenement/criterium-federal-tour-3-2024-2025/
END:VEVENT
END:VCALENDAR