BEGIN:VCALENDAR
VERSION:2.0
PRODID:-//Lunel T.T. - ECPv6.15.20//NONSGML v1.0//EN
CALSCALE:GREGORIAN
METHOD:PUBLISH
X-ORIGINAL-URL:https://luneltt.fr
X-WR-CALDESC:Évènements pour Lunel T.T.
REFRESH-INTERVAL;VALUE=DURATION:PT1H
X-Robots-Tag:noindex
X-PUBLISHED-TTL:PT1H
BEGIN:VTIMEZONE
TZID:Europe/Paris
BEGIN:DAYLIGHT
TZOFFSETFROM:+0100
TZOFFSETTO:+0200
TZNAME:CEST
DTSTART:20240331T010000
END:DAYLIGHT
BEGIN:STANDARD
TZOFFSETFROM:+0200
TZOFFSETTO:+0100
TZNAME:CET
DTSTART:20241027T010000
END:STANDARD
BEGIN:DAYLIGHT
TZOFFSETFROM:+0100
TZOFFSETTO:+0200
TZNAME:CEST
DTSTART:20250330T010000
END:DAYLIGHT
BEGIN:STANDARD
TZOFFSETFROM:+0200
TZOFFSETTO:+0100
TZNAME:CET
DTSTART:20251026T010000
END:STANDARD
BEGIN:DAYLIGHT
TZOFFSETFROM:+0100
TZOFFSETTO:+0200
TZNAME:CEST
DTSTART:20260329T010000
END:DAYLIGHT
BEGIN:STANDARD
TZOFFSETFROM:+0200
TZOFFSETTO:+0100
TZNAME:CET
DTSTART:20261025T010000
END:STANDARD
END:VTIMEZONE
BEGIN:VEVENT
DTSTART;VALUE=DATE:20250629
DTEND;VALUE=DATE:20250630
DTSTAMP:20260420T170839
CREATED:20250522T184226Z
LAST-MODIFIED:20250615T155359Z
UID:5001-1751155200-1751241599@luneltt.fr
SUMMARY:Tournoi interne 2025
DESCRIPTION:Le club a le plaisir d’inviter tous les licenciés au tournoi annuel du club\, qui se tiendra cette année le dimanche 29 juin\, au gymnase Brunel à Lunel. \nCe sera l’occasion de réunir la majorité des licenciés\, et de faire du lien entre les jeunes et les moins jeunes\, entre les joueurs débutants et les joueurs confirmés\, et entre toutes les composantes du club\, dans la convivialité et la bonne humeur ! \nPour des raisons évidentes d’organisation\, nous vous remercions par avance de vous inscrire le plus rapidement possible si vous souhaitez participer ! \nLieu : Gymnase Grande Halle Brunel\nPlan d’accès : voir Section Salle de compétitions \nDétails de l’organisation : \n\nArrivée et pointage des participants : 8h00\nDébut du tournoi : 9h00\n\nPoules de 4 ou de 5\, en fonction du nombre d’inscrit.e.s. \n\nPause repas / Apéro : 12h/12h30\nDeux options s’offrent à vous :\n– Repas tiré du sac : vous amenez votre repas\n– ⁠⁠Paella poulet ou poisson\, concoctée par Greg⁩\, traiteur profession\, au prix de 8€ par adulte\, 6€ par enfant.\nRéservation du repas via HelloAsso : https://www.helloasso.com/associations/lunel-tennis-de-table/evenements/tournoi-interne-2025-participation-et-repas\nBoissons fraîches offerte par le club\, ainsi que la bière et le café. Il est possible de ramener du vin. mais il n’y aura pas d’alcool fort. Tournoi convivial certes\, mais qui reste un événement sportif.\nSuite et fin du tournoi : 13h30/14h-17h\nRemise des récompenses\n\nIl n’y aura pas d’élimination directe sur les matchs en sortie de poule. On procédera à un classement intégral\, ce qui veut dire que chaque participant disputera normalement au moins 7 matchs ! \nN’hésitez pas\, si vous avez des questions\, à vous rapprocher de Romain\, Célian\, Philippe ou Vlad.
URL:https://luneltt.fr/evenement/tournoi-interne-2025/
LOCATION:Gymnase Grande Halle Brunel\, Rue des Olympiades\, Lunel\, 34400\, France
END:VEVENT
END:VCALENDAR